BEGIN:VCALENDAR
VERSION:2.0
PRODID:-//Association France-Russie-CEI Nantes - ECPv5.10.0//NONSGML v1.0//EN
CALSCALE:GREGORIAN
METHOD:PUBLISH
X-WR-CALNAME:Association France-Russie-CEI Nantes
X-ORIGINAL-URL:http://francerussiecei-nantes.fr
X-WR-CALDESC:évènements pour Association France-Russie-CEI Nantes
BEGIN:VTIMEZONE
TZID:Europe/Paris
BEGIN:DAYLIGHT
TZOFFSETFROM:+0100
TZOFFSETTO:+0200
TZNAME:CEST
DTSTART:20180325T010000
END:DAYLIGHT
BEGIN:STANDARD
TZOFFSETFROM:+0200
TZOFFSETTO:+0100
TZNAME:CET
DTSTART:20181028T010000
END:STANDARD
END:VTIMEZONE
BEGIN:VEVENT
DTSTART;TZID=Europe/Paris:20180512T163000
DTEND;TZID=Europe/Paris:20180512T183000
DTSTAMP:20260419T162948
CREATED:20180427T182814Z
LAST-MODIFIED:20180427T182934Z
UID:4444-1526142600-1526149800@francerussiecei-nantes.fr
SUMMARY:Speak dating et concours culinaire au Cosmopolis
DESCRIPTION:Dans le cadre de la Fête de l’Europe en Loire-Atlantique : \nSpeak dating\nVenez parler russe\, allemand\, anglais\, espagnol et italien ! \nConcours culinaire\nVous souhaitez exercer vos talents culinaires ? Préparez au choix une tortilla\, un sandwich original\, une tarte à la rhubarbe ou une crostata. Un repas pour deux au restaurant à gagner !
URL:http://francerussiecei-nantes.fr/event/speak-dating-et-concours-culinaire-au-cosmopolis/
LOCATION:COSMOPOLIS\, 18 rue Scribe\, Nantes
END:VEVENT
END:VCALENDAR