BEGIN:VCALENDAR
VERSION:2.0
PRODID:-//Association France-Russie-CEI Nantes - ECPv5.10.0//NONSGML v1.0//EN
CALSCALE:GREGORIAN
METHOD:PUBLISH
X-WR-CALNAME:Association France-Russie-CEI Nantes
X-ORIGINAL-URL:http://francerussiecei-nantes.fr
X-WR-CALDESC:évènements pour Association France-Russie-CEI Nantes
BEGIN:VTIMEZONE
TZID:Europe/Paris
BEGIN:DAYLIGHT
TZOFFSETFROM:+0100
TZOFFSETTO:+0200
TZNAME:CEST
DTSTART:20180325T010000
END:DAYLIGHT
BEGIN:STANDARD
TZOFFSETFROM:+0200
TZOFFSETTO:+0100
TZNAME:CET
DTSTART:20181028T010000
END:STANDARD
END:VTIMEZONE
BEGIN:VEVENT
DTSTART;TZID=Europe/Paris:20180513T170000
DTEND;TZID=Europe/Paris:20180513T183000
DTSTAMP:20260419T181544
CREATED:20180427T175956Z
LAST-MODIFIED:20180427T175956Z
UID:4440-1526230800-1526236200@francerussiecei-nantes.fr
SUMMARY:Atelier cuisine "Salades russes" au Cosmopolis
DESCRIPTION:Dans le cadre de la Fête de l’Europe en Loire-Atlantique l’association  Russies étonNantes propose un atelier cuisine pour explorer toutes les recettes et partager un moment de dégustation. \nVous êtes sûrs de connaître la salade russe ? Savez-vous qu’en réalité\, la vraie salade s’appelle « Olivier » et que le hareng adore les manteaux ? Nous serions ravis de vous accueillir lors d’un atelier cuisine pour explorer toutes ces recettes\, partager un moment de dégustation et un verre de l’amitié. \nParticipation : 3 euros. \nInscription par mail : asso.russies.etonnantes@gmail.com \n 
URL:http://francerussiecei-nantes.fr/event/atelier-cuisine-salades-russes-au-cosmopolis/
LOCATION:COSMOPOLIS\, 18 rue Scribe\, Nantes
END:VEVENT
BEGIN:VEVENT
DTSTART;TZID=Europe/Paris:20180513T190000
DTEND;TZID=Europe/Paris:20180513T203000
DTSTAMP:20260419T181544
CREATED:20180427T181053Z
LAST-MODIFIED:20180427T181053Z
UID:4442-1526238000-1526243400@francerussiecei-nantes.fr
SUMMARY:Folk-rock\, concert de Zaour Chevkhoujev au Cosmopolis
DESCRIPTION:Dans le cadre de la Fête de l’Europe en Loire-Atlantique l’association Russies étonNantes présente Zaour Chevkhoujev – guitariste et chanteur\, il interprète les grands succès du rock russe. \nZaour Chevkhoujev crée son premier groupe de rock à l’université de Naltchik\, joue à Moscou\, Paris et depuis 2014 à Nantes. Il interprète les grands succès du rock russe\, à chaque concert de plus en plus convaincu que la musique authentique ne connaît pas de frontières géographiques ou linguistiques. Le répertoire de la soirée inclura bien sûr des chansons en lien avec le thème de la fête de l’Europe 2018 : en Russie\, après un bon repas entre amis\, on a forcément envie de chanter ! \nEntrée libre\, participation au chapeau.
URL:http://francerussiecei-nantes.fr/event/folk-rock-concert-de-zaour-chevkhoujev-au-cosmopolis/
LOCATION:COSMOPOLIS\, 18 rue Scribe\, Nantes
END:VEVENT
END:VCALENDAR