BEGIN:VCALENDAR
VERSION:2.0
PRODID:-//Association France-Russie-CEI Nantes - ECPv5.10.0//NONSGML v1.0//EN
CALSCALE:GREGORIAN
METHOD:PUBLISH
X-WR-CALNAME:Association France-Russie-CEI Nantes
X-ORIGINAL-URL:http://francerussiecei-nantes.fr
X-WR-CALDESC:évènements pour Association France-Russie-CEI Nantes
BEGIN:VTIMEZONE
TZID:Europe/Paris
BEGIN:DAYLIGHT
TZOFFSETFROM:+0100
TZOFFSETTO:+0200
TZNAME:CEST
DTSTART:20180325T010000
END:DAYLIGHT
BEGIN:STANDARD
TZOFFSETFROM:+0200
TZOFFSETTO:+0100
TZNAME:CET
DTSTART:20181028T010000
END:STANDARD
END:VTIMEZONE
BEGIN:VEVENT
DTSTART;TZID=Europe/Paris:20180527T113000
DTEND;TZID=Europe/Paris:20180527T170000
DTSTAMP:20260420T224951
CREATED:20180417T061834Z
LAST-MODIFIED:20180417T061834Z
UID:4402-1527420600-1527440400@francerussiecei-nantes.fr
SUMMARY:Pique-nique franco-russe au bord de la Maine
DESCRIPTION:France-Russie-CEI réunit ses amis et les amis des amis pour un pique-nique de fin d’année! \nNous vous invitons à passer une demi-journée au bord de la MAINE. Apportez votre propre pique-nique et votre bonne humeur ! Des tables sont installées dans un site pittoresque. \nInscription obligatoire avant 25 mai 2018.  \nNous nous organisons un covoiturage pour aller à Saint-Lumine-de-Clisson.\n \nRenseignements et inscription par courriel à l’adresse suivante : \nfrance.russie.cei@club-internet.fr \nou par téléphone au 02 40 12 12 16 / 06 40 18 47 01
URL:http://francerussiecei-nantes.fr/event/pique-nique-franco-russe-au-bord-de-la-maine/
LOCATION:Saint-Lumine-de-Clisson
ORGANIZER;CN="Association%20%22France-Russie-CEI%20Nantes%22":MAILTO:france.russie.cei@gmail.com
END:VEVENT
END:VCALENDAR