BEGIN:VCALENDAR
VERSION:2.0
PRODID:-//Association France-Russie-CEI Nantes - ECPv5.10.0//NONSGML v1.0//EN
CALSCALE:GREGORIAN
METHOD:PUBLISH
X-WR-CALNAME:Association France-Russie-CEI Nantes
X-ORIGINAL-URL:http://francerussiecei-nantes.fr
X-WR-CALDESC:évènements pour Association France-Russie-CEI Nantes
BEGIN:VTIMEZONE
TZID:Europe/Paris
BEGIN:DAYLIGHT
TZOFFSETFROM:+0100
TZOFFSETTO:+0200
TZNAME:CEST
DTSTART:20180325T010000
END:DAYLIGHT
BEGIN:STANDARD
TZOFFSETFROM:+0200
TZOFFSETTO:+0100
TZNAME:CET
DTSTART:20181028T010000
END:STANDARD
END:VTIMEZONE
BEGIN:VEVENT
DTSTART;TZID=Europe/Paris:20180609T140000
DTEND;TZID=Europe/Paris:20180609T190000
DTSTAMP:20260422T001257
CREATED:20180606T074457Z
LAST-MODIFIED:20180606T080301Z
UID:4488-1528552800-1528570800@francerussiecei-nantes.fr
SUMMARY:Fête des Langues
DESCRIPTION:Depuis l’année 2000\, l’association Nantes est une fête propose cette rencontre formidable des cultures et des langues présentes à Nantes et ses environs. \n 
URL:http://francerussiecei-nantes.fr/event/fete-des-langues/
LOCATION:Place du Bouffay\, Nantes
END:VEVENT
END:VCALENDAR