BEGIN:VCALENDAR
VERSION:2.0
PRODID:-//Association France-Russie-CEI Nantes - ECPv5.10.0//NONSGML v1.0//EN
CALSCALE:GREGORIAN
METHOD:PUBLISH
X-WR-CALNAME:Association France-Russie-CEI Nantes
X-ORIGINAL-URL:https://francerussiecei-nantes.fr
X-WR-CALDESC:évènements pour Association France-Russie-CEI Nantes
BEGIN:VTIMEZONE
TZID:Europe/Paris
BEGIN:DAYLIGHT
TZOFFSETFROM:+0100
TZOFFSETTO:+0200
TZNAME:CEST
DTSTART:20230326T010000
END:DAYLIGHT
BEGIN:STANDARD
TZOFFSETFROM:+0200
TZOFFSETTO:+0100
TZNAME:CET
DTSTART:20231029T010000
END:STANDARD
END:VTIMEZONE
BEGIN:VEVENT
DTSTART;TZID=Europe/Paris:20230314T180000
DTEND;TZID=Europe/Paris:20230314T190000
DTSTAMP:20260419T184636
CREATED:20230314T085417Z
LAST-MODIFIED:20230314T085417Z
UID:6699-1678816800-1678820400@francerussiecei-nantes.fr
SUMMARY:Atelier de chansons russes « POIOM VMESTE »
DESCRIPTION:Notre atelier se déroule tous les mardis (sauf vacances scolaires) dans nos locaux. \nSoyez les bienvenus !
URL:https://francerussiecei-nantes.fr/event/atelier-de-chansons-russes-poiom-vmeste-39/
LOCATION:Salle A Pôle associatif Dupleix\, 14 rue de la Barbinais\, NANTES\, 44100\, France
ORGANIZER;CN="Association%20%22France-Russie-CEI%20Nantes%22":MAILTO:france.russie.cei@gmail.com
END:VEVENT
END:VCALENDAR