BEGIN:VCALENDAR
VERSION:2.0
PRODID:-//Association France-Russie-CEI Nantes - ECPv5.10.0//NONSGML v1.0//EN
CALSCALE:GREGORIAN
METHOD:PUBLISH
X-WR-CALNAME:Association France-Russie-CEI Nantes
X-ORIGINAL-URL:https://francerussiecei-nantes.fr
X-WR-CALDESC:évènements pour Association France-Russie-CEI Nantes
BEGIN:VTIMEZONE
TZID:Europe/Paris
BEGIN:DAYLIGHT
TZOFFSETFROM:+0100
TZOFFSETTO:+0200
TZNAME:CEST
DTSTART:20250330T010000
END:DAYLIGHT
BEGIN:STANDARD
TZOFFSETFROM:+0200
TZOFFSETTO:+0100
TZNAME:CET
DTSTART:20251026T010000
END:STANDARD
END:VTIMEZONE
BEGIN:VEVENT
DTSTART;TZID=Europe/Paris:20250310T181500
DTEND;TZID=Europe/Paris:20250310T194500
DTSTAMP:20260419T234842
CREATED:20241004T143317Z
LAST-MODIFIED:20241004T143622Z
UID:6973-1741630500-1741635900@francerussiecei-nantes.fr
SUMMARY:Conférence : L’Église orthodoxe russe et l'État dans la Russie post-soviétique
DESCRIPTION:10 mars 2025 \nKathy Rousselet (Sciences Po Paris) \nL’Église orthodoxe russe et l’État dans la Russie post-soviétique \n  \nUniversité permanente de Nantes . Le lundi de 18h15 à 19h45 – amphi du Pôle santé . \n 
URL:https://francerussiecei-nantes.fr/event/conference-leglise-orthodoxe-russe-et-letat-dans-la-russie-post-sovietique/
LOCATION:Campus centre ville Amphi 9\, faculté de Médecine\, 1 Rue Gaston Veil\, Nantes
ATTACH;FMTTYPE=image/jpeg:https://francerussiecei-nantes.fr/wp-content/uploads/2024/10/la-sainte-russie-contre-loccident-ou-va-leglise-orthodoxe-russe-dont-les-prises-de-position-alignees-sur-celles-de-vladimir-pout.jpg
END:VEVENT
END:VCALENDAR