BEGIN:VCALENDAR
VERSION:2.0
PRODID:-//Association France-Russie-CEI Nantes - ECPv5.10.0//NONSGML v1.0//EN
CALSCALE:GREGORIAN
METHOD:PUBLISH
X-WR-CALNAME:Association France-Russie-CEI Nantes
X-ORIGINAL-URL:https://francerussiecei-nantes.fr
X-WR-CALDESC:évènements pour Association France-Russie-CEI Nantes
BEGIN:VTIMEZONE
TZID:Europe/Paris
BEGIN:DAYLIGHT
TZOFFSETFROM:+0100
TZOFFSETTO:+0200
TZNAME:CEST
DTSTART:20250330T010000
END:DAYLIGHT
BEGIN:STANDARD
TZOFFSETFROM:+0200
TZOFFSETTO:+0100
TZNAME:CET
DTSTART:20251026T010000
END:STANDARD
END:VTIMEZONE
BEGIN:VEVENT
DTSTART;TZID=Europe/Paris:20250125T143000
DTEND;TZID=Europe/Paris:20250125T170000
DTSTAMP:20260420T033617
CREATED:20250118T160901Z
LAST-MODIFIED:20250118T160932Z
UID:7380-1737815400-1737824400@francerussiecei-nantes.fr
SUMMARY:Scrabble mais pas que
DESCRIPTION:Scrabble mais pas que
URL:https://francerussiecei-nantes.fr/event/scrabble-mais-pas-que/
LOCATION:11 rue du Prinquiau\, 11 rue du Prinquiau\, Nantes\, 44100\, France
ORGANIZER;CN="Association%20%22France-Russie-CEI%20Nantes%22":MAILTO:france.russie.cei@gmail.com
END:VEVENT
END:VCALENDAR